BEGIN:VCALENDAR
VERSION:2.0
PRODID:-//Squarespace Inc/Squarespace 6//v6//EN
BEGIN:VEVENT
UID:5a5c154a0d9297bb7c94dcf3@squarespace.com
DTSTAMP:20180115T024751Z
DTSTART:20180204T153000Z
DTEND:20180206T190000Z
SUMMARY:Ocean Swim - Boat Harbour
END:VEVENT
END:VCALENDAR
