BEGIN:VCALENDAR
VERSION:2.0
PRODID:-//Squarespace Inc/Squarespace 6//v6//EN
BEGIN:VEVENT
UID:5a651be78165f575c9445b19@squarespace.com
DTSTAMP:20180121T230255Z
DTSTART:20180317T130000Z
DTEND:20180317T170000Z
SUMMARY:Surf Club - Nippers Training
END:VEVENT
END:VCALENDAR
