BEGIN:VCALENDAR
VERSION:2.0
PRODID:-//Squarespace Inc/Squarespace 6//v6//EN
BEGIN:VEVENT
UID:5a651ade0d9297cda9a43342@squarespace.com
DTSTAMP:20180121T230103Z
DTSTART:20180225T140000Z
DTEND:20180225T180000Z
SUMMARY:Surf Club - Nippers and Under 19 Training
END:VEVENT
END:VCALENDAR
