BEGIN:VCALENDAR
VERSION:2.0
PRODID:-//Squarespace Inc/Squarespace 6//v6//EN
BEGIN:VEVENT
UID:5a65239d9140b7b61f52b902@squarespace.com
DTSTAMP:20180121T233521Z
DTSTART:20180304T213000Z
DTEND:20180305T013000Z
SUMMARY:Sunday Sessions - Boat Harbour 'Sam Brooks'
END:VEVENT
END:VCALENDAR
