BEGIN:VCALENDAR
VERSION:2.0
PRODID:-//Squarespace Inc/Squarespace 6//v6//EN
BEGIN:VEVENT
UID:5a652205419202c75acb75d4@squarespace.com
DTSTAMP:20180121T233446Z
DTSTART:20180204T213000Z
DTEND:20180205T013000Z
SUMMARY:Sunday Sessions - Boat Harbour 'Charlie Don't Surf'
END:VEVENT
END:VCALENDAR
