BEGIN:VCALENDAR
VERSION:2.0
PRODID:-//Squarespace Inc/Squarespace 6//v6//EN
BEGIN:VEVENT
UID:5d7085104161ce00017d0011@squarespace.com
DTSTAMP:20190905T035043Z
DTSTART:20191020T140000Z
DTEND:20191020T155900Z
SUMMARY:Boat Harbour SLSC - Nippers season opener
GEO:-40.928124;145.617721
LOCATION:Boat Harbour Beach Surf Life Saving Club\, 290 Port Road\, Boat Ha
 rbour\, Australia
END:VEVENT
END:VCALENDAR
