BEGIN:VCALENDAR
VERSION:2.0
PRODID:-//Squarespace Inc/Squarespace 6//v6//EN
BEGIN:VEVENT
UID:5cf467efb7e4c5000188f21b@squarespace.com
DTSTAMP:20190603T004111Z
DTSTART:20190606T223000Z
DTEND:20190607T003000Z
SUMMARY:SBCA Annual General Meeting
GEO:-40.917149;145.564588
LOCATION:Pear Tree Cafe Bar\, 1/3 Honeysuckle Aveenue\, Sisters Beach\, 732
 1
END:VEVENT
END:VCALENDAR
